BEGIN:VCALENDAR
VERSION:2.0
PRODID:-//https://www.daiquirideckvenice.com///NONSGML kigkonsult.se iCalcreator 2.10.15//
METHOD:PUBLISH
BEGIN:VEVENT
UID:20260422T130846UTC-3900v2sDvw@https://www.daiquirideckvenice.com/
DTSTAMP:20260422T130846Z
DESCRIPTION: https://www.daiquirideckvenice.com/component/rseventspro/event
 /4133-5p-kevin-thompson?Itemid=218
DTSTART;VALUE=DATE:20260501
LOCATION:Daiquiri Deck Island of Venice (300 W Venice Ave\, Venice\, FL 342
 85)
SUMMARY:5p Kevin Thompson
URL:https://www.daiquirideckvenice.com/component/rseventspro/event/4133-5p-
 kevin-thompson?Itemid=218
END:VEVENT
END:VCALENDAR
