BEGIN:VCALENDAR
VERSION:2.0
PRODID:-//https://www.daiquirideckvenice.com///NONSGML kigkonsult.se iCalcreator 2.10.15//
METHOD:PUBLISH
BEGIN:VEVENT
UID:20260425T142936UTC-862535unJK@https://www.daiquirideckvenice.com/
DTSTAMP:20260425T142936Z
DESCRIPTION: https://www.daiquirideckvenice.com/component/rseventspro/event
 /4135-4p-maddie-lin?Itemid=218
DTSTART;VALUE=DATE:20260503
LOCATION:Daiquiri Deck Island of Venice (300 W Venice Ave\, Venice\, FL 342
 85)
SUMMARY:4p Maddie Lin
URL:https://www.daiquirideckvenice.com/component/rseventspro/event/4135-4p-
 maddie-lin?Itemid=218
END:VEVENT
END:VCALENDAR
